BEGIN:VCALENDAR
VERSION:2.0
PRODID:-// - ECPv6.15.20//NONSGML v1.0//EN
CALSCALE:GREGORIAN
METHOD:PUBLISH
X-ORIGINAL-URL:https://area34aa.org
X-WR-CALDESC:Events for 
REFRESH-INTERVAL;VALUE=DURATION:PT1H
X-Robots-Tag:noindex
X-PUBLISHED-TTL:PT1H
BEGIN:VTIMEZONE
TZID:America/Detroit
BEGIN:DAYLIGHT
TZOFFSETFROM:-0500
TZOFFSETTO:-0400
TZNAME:EDT
DTSTART:20250309T070000
END:DAYLIGHT
BEGIN:STANDARD
TZOFFSETFROM:-0400
TZOFFSETTO:-0500
TZNAME:EST
DTSTART:20251102T060000
END:STANDARD
BEGIN:DAYLIGHT
TZOFFSETFROM:-0500
TZOFFSETTO:-0400
TZNAME:EDT
DTSTART:20260308T070000
END:DAYLIGHT
BEGIN:STANDARD
TZOFFSETFROM:-0400
TZOFFSETTO:-0500
TZNAME:EST
DTSTART:20261101T060000
END:STANDARD
BEGIN:DAYLIGHT
TZOFFSETFROM:-0500
TZOFFSETTO:-0400
TZNAME:EDT
DTSTART:20270314T070000
END:DAYLIGHT
BEGIN:STANDARD
TZOFFSETFROM:-0400
TZOFFSETTO:-0500
TZNAME:EST
DTSTART:20271107T060000
END:STANDARD
END:VTIMEZONE
BEGIN:VEVENT
DTSTART;TZID=America/Detroit:20260425T120000
DTEND;TZID=America/Detroit:20260425T220000
DTSTAMP:20260422T164533
CREATED:20260306T232047Z
LAST-MODIFIED:20260306T232047Z
UID:10005812-1777118400-1777154400@area34aa.org
SUMMARY:KCCO SPRING ROUNDUP
DESCRIPTION:DOWNLOAD FLYER HERE\nKCCO WEBSITE
URL:https://area34aa.org/event/kcco-spring-roundup/
LOCATION:North Alano Club\, 1020 Collage Avenue\, Grand Rapids\, MI\, 49525\, United States
ATTACH;FMTTYPE=application/pdf:https://area34aa.org/wp-content/uploads/2026/03/2026-04-KCCO-Spring-Roundup.pdf
END:VEVENT
BEGIN:VEVENT
DTSTART;VALUE=DATE:20260426
DTEND;VALUE=DATE:20260504
DTSTAMP:20260422T164533
CREATED:20251124T181924Z
LAST-MODIFIED:20251124T181924Z
UID:10005487-1777161600-1777852799@area34aa.org
SUMMARY:2026 Alcoholics Anonymous General Service Conference
DESCRIPTION:The Annual General Service Conference
URL:https://area34aa.org/event/2026-alcoholics-anonymous-general-service-conference/
LOCATION:New York Hilton – Midtown\, 1335 6th Avenue\, New York\, NY\, 10019\, United States
ATTACH;FMTTYPE=image/png:https://area34aa.org/wp-content/uploads/2025/11/Screenshot-2025-11-24-at-1.15.47-PM.png
END:VEVENT
BEGIN:VEVENT
DTSTART;TZID=America/Detroit:20260428T180000
DTEND;TZID=America/Detroit:20260428T190000
DTSTAMP:20260422T164533
CREATED:20260107T134934Z
LAST-MODIFIED:20260330T143724Z
UID:10005792-1777399200-1777402800@area34aa.org
SUMMARY:TECH COMMITTEE MEETING
DESCRIPTION:AREA 34 TECHNOLOGY COMMUNICATION COMMITTEE MEETING\nZoom LINK Login\n521 659 0401 (pw BW&BS1935) \nVisit our Area 34 Technology Committee Webpage\nQuestions about our website?\nInterested in Tech? Wanna help improve area 34 communications?\nWant to get involved in Tech for AA? email us: technology@area34aa.org\n  \n  \n 
URL:https://area34aa.org/event/technology-communications-committee-meeting-area-34-3-2/2026-04-28/
ATTACH;FMTTYPE=image/png:https://area34aa.org/wp-content/uploads/2026/01/Screenshot-2026-03-30-at-10.36.29-AM.png
END:VEVENT
END:VCALENDAR