BEGIN:VCALENDAR
VERSION:2.0
PRODID:-// - ECPv6.15.20//NONSGML v1.0//EN
CALSCALE:GREGORIAN
METHOD:PUBLISH
X-ORIGINAL-URL:https://area34aa.org
X-WR-CALDESC:Events for 
REFRESH-INTERVAL;VALUE=DURATION:PT1H
X-Robots-Tag:noindex
X-PUBLISHED-TTL:PT1H
BEGIN:VTIMEZONE
TZID:America/Detroit
BEGIN:DAYLIGHT
TZOFFSETFROM:-0500
TZOFFSETTO:-0400
TZNAME:EDT
DTSTART:20250309T070000
END:DAYLIGHT
BEGIN:STANDARD
TZOFFSETFROM:-0400
TZOFFSETTO:-0500
TZNAME:EST
DTSTART:20251102T060000
END:STANDARD
BEGIN:DAYLIGHT
TZOFFSETFROM:-0500
TZOFFSETTO:-0400
TZNAME:EDT
DTSTART:20260308T070000
END:DAYLIGHT
BEGIN:STANDARD
TZOFFSETFROM:-0400
TZOFFSETTO:-0500
TZNAME:EST
DTSTART:20261101T060000
END:STANDARD
BEGIN:DAYLIGHT
TZOFFSETFROM:-0500
TZOFFSETTO:-0400
TZNAME:EDT
DTSTART:20270314T070000
END:DAYLIGHT
BEGIN:STANDARD
TZOFFSETFROM:-0400
TZOFFSETTO:-0500
TZNAME:EST
DTSTART:20271107T060000
END:STANDARD
BEGIN:DAYLIGHT
TZOFFSETFROM:-0500
TZOFFSETTO:-0400
TZNAME:EDT
DTSTART:20280312T070000
END:DAYLIGHT
BEGIN:STANDARD
TZOFFSETFROM:-0400
TZOFFSETTO:-0500
TZNAME:EST
DTSTART:20281105T060000
END:STANDARD
END:VTIMEZONE
BEGIN:VEVENT
DTSTART;TZID=America/Detroit:20260428T180000
DTEND;TZID=America/Detroit:20260428T190000
DTSTAMP:20260422T184856
CREATED:20260107T134934Z
LAST-MODIFIED:20260330T143724Z
UID:10005792-1777399200-1777402800@area34aa.org
SUMMARY:TECH COMMITTEE MEETING
DESCRIPTION:AREA 34 TECHNOLOGY COMMUNICATION COMMITTEE MEETING\nZoom LINK Login\n521 659 0401 (pw BW&BS1935) \nVisit our Area 34 Technology Committee Webpage\nQuestions about our website?\nInterested in Tech? Wanna help improve area 34 communications?\nWant to get involved in Tech for AA? email us: technology@area34aa.org\n  \n  \n 
URL:https://area34aa.org/event/technology-communications-committee-meeting-area-34-3-2/2026-04-28/
ATTACH;FMTTYPE=image/png:https://area34aa.org/wp-content/uploads/2026/01/Screenshot-2026-03-30-at-10.36.29-AM.png
END:VEVENT
BEGIN:VEVENT
DTSTART;TZID=America/Detroit:20260526T180000
DTEND;TZID=America/Detroit:20260526T190000
DTSTAMP:20260422T184856
CREATED:20260107T134934Z
LAST-MODIFIED:20260330T143724Z
UID:10005793-1779818400-1779822000@area34aa.org
SUMMARY:TECH COMMITTEE MEETING
DESCRIPTION:AREA 34 TECHNOLOGY COMMUNICATION COMMITTEE MEETING\nZoom LINK Login\n521 659 0401 (pw BW&BS1935) \nVisit our Area 34 Technology Committee Webpage\nQuestions about our website?\nInterested in Tech? Wanna help improve area 34 communications?\nWant to get involved in Tech for AA? email us: technology@area34aa.org\n  \n  \n 
URL:https://area34aa.org/event/technology-communications-committee-meeting-area-34-3-2/2026-05-26/
ATTACH;FMTTYPE=image/png:https://area34aa.org/wp-content/uploads/2026/01/Screenshot-2026-03-30-at-10.36.29-AM.png
END:VEVENT
BEGIN:VEVENT
DTSTART;TZID=America/Detroit:20260630T180000
DTEND;TZID=America/Detroit:20260630T190000
DTSTAMP:20260422T184856
CREATED:20260107T134934Z
LAST-MODIFIED:20260330T143724Z
UID:10005794-1782842400-1782846000@area34aa.org
SUMMARY:TECH COMMITTEE MEETING
DESCRIPTION:AREA 34 TECHNOLOGY COMMUNICATION COMMITTEE MEETING\nZoom LINK Login\n521 659 0401 (pw BW&BS1935) \nVisit our Area 34 Technology Committee Webpage\nQuestions about our website?\nInterested in Tech? Wanna help improve area 34 communications?\nWant to get involved in Tech for AA? email us: technology@area34aa.org\n  \n  \n 
URL:https://area34aa.org/event/technology-communications-committee-meeting-area-34-3-2/2026-06-30/
ATTACH;FMTTYPE=image/png:https://area34aa.org/wp-content/uploads/2026/01/Screenshot-2026-03-30-at-10.36.29-AM.png
END:VEVENT
BEGIN:VEVENT
DTSTART;TZID=America/Detroit:20260728T180000
DTEND;TZID=America/Detroit:20260728T190000
DTSTAMP:20260422T184856
CREATED:20260107T134934Z
LAST-MODIFIED:20260330T143724Z
UID:10005795-1785261600-1785265200@area34aa.org
SUMMARY:TECH COMMITTEE MEETING
DESCRIPTION:AREA 34 TECHNOLOGY COMMUNICATION COMMITTEE MEETING\nZoom LINK Login\n521 659 0401 (pw BW&BS1935) \nVisit our Area 34 Technology Committee Webpage\nQuestions about our website?\nInterested in Tech? Wanna help improve area 34 communications?\nWant to get involved in Tech for AA? email us: technology@area34aa.org\n  \n  \n 
URL:https://area34aa.org/event/technology-communications-committee-meeting-area-34-3-2/2026-07-28/
ATTACH;FMTTYPE=image/png:https://area34aa.org/wp-content/uploads/2026/01/Screenshot-2026-03-30-at-10.36.29-AM.png
END:VEVENT
BEGIN:VEVENT
DTSTART;TZID=America/Detroit:20260825T180000
DTEND;TZID=America/Detroit:20260825T190000
DTSTAMP:20260422T184856
CREATED:20260107T134934Z
LAST-MODIFIED:20260330T143724Z
UID:10005796-1787680800-1787684400@area34aa.org
SUMMARY:TECH COMMITTEE MEETING
DESCRIPTION:AREA 34 TECHNOLOGY COMMUNICATION COMMITTEE MEETING\nZoom LINK Login\n521 659 0401 (pw BW&BS1935) \nVisit our Area 34 Technology Committee Webpage\nQuestions about our website?\nInterested in Tech? Wanna help improve area 34 communications?\nWant to get involved in Tech for AA? email us: technology@area34aa.org\n  \n  \n 
URL:https://area34aa.org/event/technology-communications-committee-meeting-area-34-3-2/2026-08-25/
ATTACH;FMTTYPE=image/png:https://area34aa.org/wp-content/uploads/2026/01/Screenshot-2026-03-30-at-10.36.29-AM.png
END:VEVENT
BEGIN:VEVENT
DTSTART;TZID=America/Detroit:20260929T180000
DTEND;TZID=America/Detroit:20260929T190000
DTSTAMP:20260422T184856
CREATED:20260107T134934Z
LAST-MODIFIED:20260330T143724Z
UID:10005797-1790704800-1790708400@area34aa.org
SUMMARY:TECH COMMITTEE MEETING
DESCRIPTION:AREA 34 TECHNOLOGY COMMUNICATION COMMITTEE MEETING\nZoom LINK Login\n521 659 0401 (pw BW&BS1935) \nVisit our Area 34 Technology Committee Webpage\nQuestions about our website?\nInterested in Tech? Wanna help improve area 34 communications?\nWant to get involved in Tech for AA? email us: technology@area34aa.org\n  \n  \n 
URL:https://area34aa.org/event/technology-communications-committee-meeting-area-34-3-2/2026-09-29/
ATTACH;FMTTYPE=image/png:https://area34aa.org/wp-content/uploads/2026/01/Screenshot-2026-03-30-at-10.36.29-AM.png
END:VEVENT
BEGIN:VEVENT
DTSTART;TZID=America/Detroit:20261027T180000
DTEND;TZID=America/Detroit:20261027T190000
DTSTAMP:20260422T184856
CREATED:20260107T134934Z
LAST-MODIFIED:20260330T143724Z
UID:10005798-1793124000-1793127600@area34aa.org
SUMMARY:TECH COMMITTEE MEETING
DESCRIPTION:AREA 34 TECHNOLOGY COMMUNICATION COMMITTEE MEETING\nZoom LINK Login\n521 659 0401 (pw BW&BS1935) \nVisit our Area 34 Technology Committee Webpage\nQuestions about our website?\nInterested in Tech? Wanna help improve area 34 communications?\nWant to get involved in Tech for AA? email us: technology@area34aa.org\n  \n  \n 
URL:https://area34aa.org/event/technology-communications-committee-meeting-area-34-3-2/2026-10-27/
ATTACH;FMTTYPE=image/png:https://area34aa.org/wp-content/uploads/2026/01/Screenshot-2026-03-30-at-10.36.29-AM.png
END:VEVENT
BEGIN:VEVENT
DTSTART;TZID=America/Detroit:20261124T180000
DTEND;TZID=America/Detroit:20261124T190000
DTSTAMP:20260422T184856
CREATED:20260107T134934Z
LAST-MODIFIED:20260330T143724Z
UID:10005799-1795543200-1795546800@area34aa.org
SUMMARY:TECH COMMITTEE MEETING
DESCRIPTION:AREA 34 TECHNOLOGY COMMUNICATION COMMITTEE MEETING\nZoom LINK Login\n521 659 0401 (pw BW&BS1935) \nVisit our Area 34 Technology Committee Webpage\nQuestions about our website?\nInterested in Tech? Wanna help improve area 34 communications?\nWant to get involved in Tech for AA? email us: technology@area34aa.org\n  \n  \n 
URL:https://area34aa.org/event/technology-communications-committee-meeting-area-34-3-2/2026-11-24/
ATTACH;FMTTYPE=image/png:https://area34aa.org/wp-content/uploads/2026/01/Screenshot-2026-03-30-at-10.36.29-AM.png
END:VEVENT
BEGIN:VEVENT
DTSTART;TZID=America/Detroit:20261229T180000
DTEND;TZID=America/Detroit:20261229T190000
DTSTAMP:20260422T184856
CREATED:20260107T134934Z
LAST-MODIFIED:20260330T143724Z
UID:10005800-1798567200-1798570800@area34aa.org
SUMMARY:TECH COMMITTEE MEETING
DESCRIPTION:AREA 34 TECHNOLOGY COMMUNICATION COMMITTEE MEETING\nZoom LINK Login\n521 659 0401 (pw BW&BS1935) \nVisit our Area 34 Technology Committee Webpage\nQuestions about our website?\nInterested in Tech? Wanna help improve area 34 communications?\nWant to get involved in Tech for AA? email us: technology@area34aa.org\n  \n  \n 
URL:https://area34aa.org/event/technology-communications-committee-meeting-area-34-3-2/2026-12-29/
ATTACH;FMTTYPE=image/png:https://area34aa.org/wp-content/uploads/2026/01/Screenshot-2026-03-30-at-10.36.29-AM.png
END:VEVENT
BEGIN:VEVENT
DTSTART;TZID=America/Detroit:20270126T180000
DTEND;TZID=America/Detroit:20270126T190000
DTSTAMP:20260422T184856
CREATED:20260107T134934Z
LAST-MODIFIED:20260330T143724Z
UID:10005801-1800986400-1800990000@area34aa.org
SUMMARY:TECH COMMITTEE MEETING
DESCRIPTION:AREA 34 TECHNOLOGY COMMUNICATION COMMITTEE MEETING\nZoom LINK Login\n521 659 0401 (pw BW&BS1935) \nVisit our Area 34 Technology Committee Webpage\nQuestions about our website?\nInterested in Tech? Wanna help improve area 34 communications?\nWant to get involved in Tech for AA? email us: technology@area34aa.org\n  \n  \n 
URL:https://area34aa.org/event/technology-communications-committee-meeting-area-34-3-2/2027-01-26/
ATTACH;FMTTYPE=image/png:https://area34aa.org/wp-content/uploads/2026/01/Screenshot-2026-03-30-at-10.36.29-AM.png
END:VEVENT
BEGIN:VEVENT
DTSTART;TZID=America/Detroit:20270223T180000
DTEND;TZID=America/Detroit:20270223T190000
DTSTAMP:20260422T184856
CREATED:20260107T134934Z
LAST-MODIFIED:20260330T143724Z
UID:10005802-1803405600-1803409200@area34aa.org
SUMMARY:TECH COMMITTEE MEETING
DESCRIPTION:AREA 34 TECHNOLOGY COMMUNICATION COMMITTEE MEETING\nZoom LINK Login\n521 659 0401 (pw BW&BS1935) \nVisit our Area 34 Technology Committee Webpage\nQuestions about our website?\nInterested in Tech? Wanna help improve area 34 communications?\nWant to get involved in Tech for AA? email us: technology@area34aa.org\n  \n  \n 
URL:https://area34aa.org/event/technology-communications-committee-meeting-area-34-3-2/2027-02-23/
ATTACH;FMTTYPE=image/png:https://area34aa.org/wp-content/uploads/2026/01/Screenshot-2026-03-30-at-10.36.29-AM.png
END:VEVENT
BEGIN:VEVENT
DTSTART;TZID=America/Detroit:20270330T180000
DTEND;TZID=America/Detroit:20270330T190000
DTSTAMP:20260422T184856
CREATED:20260107T134934Z
LAST-MODIFIED:20260330T143724Z
UID:10005803-1806429600-1806433200@area34aa.org
SUMMARY:TECH COMMITTEE MEETING
DESCRIPTION:AREA 34 TECHNOLOGY COMMUNICATION COMMITTEE MEETING\nZoom LINK Login\n521 659 0401 (pw BW&BS1935) \nVisit our Area 34 Technology Committee Webpage\nQuestions about our website?\nInterested in Tech? Wanna help improve area 34 communications?\nWant to get involved in Tech for AA? email us: technology@area34aa.org\n  \n  \n 
URL:https://area34aa.org/event/technology-communications-committee-meeting-area-34-3-2/2027-03-30/
ATTACH;FMTTYPE=image/png:https://area34aa.org/wp-content/uploads/2026/01/Screenshot-2026-03-30-at-10.36.29-AM.png
END:VEVENT
BEGIN:VEVENT
DTSTART;TZID=America/Detroit:20270427T180000
DTEND;TZID=America/Detroit:20270427T190000
DTSTAMP:20260422T184856
CREATED:20260107T134934Z
LAST-MODIFIED:20260330T143724Z
UID:10005804-1808848800-1808852400@area34aa.org
SUMMARY:TECH COMMITTEE MEETING
DESCRIPTION:AREA 34 TECHNOLOGY COMMUNICATION COMMITTEE MEETING\nZoom LINK Login\n521 659 0401 (pw BW&BS1935) \nVisit our Area 34 Technology Committee Webpage\nQuestions about our website?\nInterested in Tech? Wanna help improve area 34 communications?\nWant to get involved in Tech for AA? email us: technology@area34aa.org\n  \n  \n 
URL:https://area34aa.org/event/technology-communications-committee-meeting-area-34-3-2/2027-04-27/
ATTACH;FMTTYPE=image/png:https://area34aa.org/wp-content/uploads/2026/01/Screenshot-2026-03-30-at-10.36.29-AM.png
END:VEVENT
BEGIN:VEVENT
DTSTART;TZID=America/Detroit:20270525T180000
DTEND;TZID=America/Detroit:20270525T190000
DTSTAMP:20260422T184856
CREATED:20260107T134934Z
LAST-MODIFIED:20260330T143724Z
UID:10005805-1811268000-1811271600@area34aa.org
SUMMARY:TECH COMMITTEE MEETING
DESCRIPTION:AREA 34 TECHNOLOGY COMMUNICATION COMMITTEE MEETING\nZoom LINK Login\n521 659 0401 (pw BW&BS1935) \nVisit our Area 34 Technology Committee Webpage\nQuestions about our website?\nInterested in Tech? Wanna help improve area 34 communications?\nWant to get involved in Tech for AA? email us: technology@area34aa.org\n  \n  \n 
URL:https://area34aa.org/event/technology-communications-committee-meeting-area-34-3-2/2027-05-25/
ATTACH;FMTTYPE=image/png:https://area34aa.org/wp-content/uploads/2026/01/Screenshot-2026-03-30-at-10.36.29-AM.png
END:VEVENT
BEGIN:VEVENT
DTSTART;TZID=America/Detroit:20270629T180000
DTEND;TZID=America/Detroit:20270629T190000
DTSTAMP:20260422T184856
CREATED:20260107T134934Z
LAST-MODIFIED:20260330T143724Z
UID:10005806-1814292000-1814295600@area34aa.org
SUMMARY:TECH COMMITTEE MEETING
DESCRIPTION:AREA 34 TECHNOLOGY COMMUNICATION COMMITTEE MEETING\nZoom LINK Login\n521 659 0401 (pw BW&BS1935) \nVisit our Area 34 Technology Committee Webpage\nQuestions about our website?\nInterested in Tech? Wanna help improve area 34 communications?\nWant to get involved in Tech for AA? email us: technology@area34aa.org\n  \n  \n 
URL:https://area34aa.org/event/technology-communications-committee-meeting-area-34-3-2/2027-06-29/
ATTACH;FMTTYPE=image/png:https://area34aa.org/wp-content/uploads/2026/01/Screenshot-2026-03-30-at-10.36.29-AM.png
END:VEVENT
BEGIN:VEVENT
DTSTART;TZID=America/Detroit:20270727T180000
DTEND;TZID=America/Detroit:20270727T190000
DTSTAMP:20260422T184856
CREATED:20260107T134934Z
LAST-MODIFIED:20260330T143724Z
UID:10005807-1816711200-1816714800@area34aa.org
SUMMARY:TECH COMMITTEE MEETING
DESCRIPTION:AREA 34 TECHNOLOGY COMMUNICATION COMMITTEE MEETING\nZoom LINK Login\n521 659 0401 (pw BW&BS1935) \nVisit our Area 34 Technology Committee Webpage\nQuestions about our website?\nInterested in Tech? Wanna help improve area 34 communications?\nWant to get involved in Tech for AA? email us: technology@area34aa.org\n  \n  \n 
URL:https://area34aa.org/event/technology-communications-committee-meeting-area-34-3-2/2027-07-27/
ATTACH;FMTTYPE=image/png:https://area34aa.org/wp-content/uploads/2026/01/Screenshot-2026-03-30-at-10.36.29-AM.png
END:VEVENT
BEGIN:VEVENT
DTSTART;TZID=America/Detroit:20270831T180000
DTEND;TZID=America/Detroit:20270831T190000
DTSTAMP:20260422T184856
CREATED:20260107T134934Z
LAST-MODIFIED:20260330T143724Z
UID:10005808-1819735200-1819738800@area34aa.org
SUMMARY:TECH COMMITTEE MEETING
DESCRIPTION:AREA 34 TECHNOLOGY COMMUNICATION COMMITTEE MEETING\nZoom LINK Login\n521 659 0401 (pw BW&BS1935) \nVisit our Area 34 Technology Committee Webpage\nQuestions about our website?\nInterested in Tech? Wanna help improve area 34 communications?\nWant to get involved in Tech for AA? email us: technology@area34aa.org\n  \n  \n 
URL:https://area34aa.org/event/technology-communications-committee-meeting-area-34-3-2/2027-08-31/
ATTACH;FMTTYPE=image/png:https://area34aa.org/wp-content/uploads/2026/01/Screenshot-2026-03-30-at-10.36.29-AM.png
END:VEVENT
BEGIN:VEVENT
DTSTART;TZID=America/Detroit:20270928T180000
DTEND;TZID=America/Detroit:20270928T190000
DTSTAMP:20260422T184856
CREATED:20260107T134934Z
LAST-MODIFIED:20260330T143724Z
UID:10005809-1822154400-1822158000@area34aa.org
SUMMARY:TECH COMMITTEE MEETING
DESCRIPTION:AREA 34 TECHNOLOGY COMMUNICATION COMMITTEE MEETING\nZoom LINK Login\n521 659 0401 (pw BW&BS1935) \nVisit our Area 34 Technology Committee Webpage\nQuestions about our website?\nInterested in Tech? Wanna help improve area 34 communications?\nWant to get involved in Tech for AA? email us: technology@area34aa.org\n  \n  \n 
URL:https://area34aa.org/event/technology-communications-committee-meeting-area-34-3-2/2027-09-28/
ATTACH;FMTTYPE=image/png:https://area34aa.org/wp-content/uploads/2026/01/Screenshot-2026-03-30-at-10.36.29-AM.png
END:VEVENT
BEGIN:VEVENT
DTSTART;TZID=America/Detroit:20271026T180000
DTEND;TZID=America/Detroit:20271026T190000
DTSTAMP:20260422T184856
CREATED:20260107T134934Z
LAST-MODIFIED:20260330T143724Z
UID:10005810-1824573600-1824577200@area34aa.org
SUMMARY:TECH COMMITTEE MEETING
DESCRIPTION:AREA 34 TECHNOLOGY COMMUNICATION COMMITTEE MEETING\nZoom LINK Login\n521 659 0401 (pw BW&BS1935) \nVisit our Area 34 Technology Committee Webpage\nQuestions about our website?\nInterested in Tech? Wanna help improve area 34 communications?\nWant to get involved in Tech for AA? email us: technology@area34aa.org\n  \n  \n 
URL:https://area34aa.org/event/technology-communications-committee-meeting-area-34-3-2/2027-10-26/
ATTACH;FMTTYPE=image/png:https://area34aa.org/wp-content/uploads/2026/01/Screenshot-2026-03-30-at-10.36.29-AM.png
END:VEVENT
BEGIN:VEVENT
DTSTART;TZID=America/Detroit:20271130T180000
DTEND;TZID=America/Detroit:20271130T190000
DTSTAMP:20260422T184856
CREATED:20260107T134934Z
LAST-MODIFIED:20260330T143724Z
UID:10005811-1827597600-1827601200@area34aa.org
SUMMARY:TECH COMMITTEE MEETING
DESCRIPTION:AREA 34 TECHNOLOGY COMMUNICATION COMMITTEE MEETING\nZoom LINK Login\n521 659 0401 (pw BW&BS1935) \nVisit our Area 34 Technology Committee Webpage\nQuestions about our website?\nInterested in Tech? Wanna help improve area 34 communications?\nWant to get involved in Tech for AA? email us: technology@area34aa.org\n  \n  \n 
URL:https://area34aa.org/event/technology-communications-committee-meeting-area-34-3-2/2027-11-30/
ATTACH;FMTTYPE=image/png:https://area34aa.org/wp-content/uploads/2026/01/Screenshot-2026-03-30-at-10.36.29-AM.png
END:VEVENT
END:VCALENDAR