BEGIN:VCALENDAR
VERSION:2.0
PRODID:-// - ECPv6.15.20//NONSGML v1.0//EN
CALSCALE:GREGORIAN
METHOD:PUBLISH
X-ORIGINAL-URL:https://area34aa.org
X-WR-CALDESC:Events for 
REFRESH-INTERVAL;VALUE=DURATION:PT1H
X-Robots-Tag:noindex
X-PUBLISHED-TTL:PT1H
BEGIN:VTIMEZONE
TZID:America/Detroit
BEGIN:DAYLIGHT
TZOFFSETFROM:-0500
TZOFFSETTO:-0400
TZNAME:EDT
DTSTART:20250309T070000
END:DAYLIGHT
BEGIN:STANDARD
TZOFFSETFROM:-0400
TZOFFSETTO:-0500
TZNAME:EST
DTSTART:20251102T060000
END:STANDARD
BEGIN:DAYLIGHT
TZOFFSETFROM:-0500
TZOFFSETTO:-0400
TZNAME:EDT
DTSTART:20260308T070000
END:DAYLIGHT
BEGIN:STANDARD
TZOFFSETFROM:-0400
TZOFFSETTO:-0500
TZNAME:EST
DTSTART:20261101T060000
END:STANDARD
BEGIN:DAYLIGHT
TZOFFSETFROM:-0500
TZOFFSETTO:-0400
TZNAME:EDT
DTSTART:20270314T070000
END:DAYLIGHT
BEGIN:STANDARD
TZOFFSETFROM:-0400
TZOFFSETTO:-0500
TZNAME:EST
DTSTART:20271107T060000
END:STANDARD
END:VTIMEZONE
BEGIN:VEVENT
DTSTART;TZID=America/Detroit:20260419T103000
DTEND;TZID=America/Detroit:20260419T160000
DTSTAMP:20260422T232128
CREATED:20260301T000714Z
LAST-MODIFIED:20260301T000714Z
UID:10005790-1776594600-1776614400@area34aa.org
SUMMARY:APRIL 2026 AREA ASSEMBLY
DESCRIPTION:FLYER DOWNLOAD \nZOOM LINK – DISTRICT ROLL CALL @ 10:30AM \nDigital Handouts can be found in the Password Protected Login on our Website. \nThe Digital Handouts include the Agenda\, Minutes\, Treasury\, and other documents shared at the Assembly. \n 
URL:https://area34aa.org/event/april-2026-area-assembly/
LOCATION:AKI COMMUNITY CENTER\, 2953 Shaw Be Quo Ung\, Manistee\, 49660\, United States
CATEGORIES:Activities for DCM's,Activities for GSRs
ATTACH;FMTTYPE=application/pdf:https://area34aa.org/wp-content/uploads/2026/02/2026_04_15_assembly_flyer.pdf
END:VEVENT
END:VCALENDAR