BEGIN:VCALENDAR
VERSION:2.0
PRODID:-// - ECPv6.15.20//NONSGML v1.0//EN
CALSCALE:GREGORIAN
METHOD:PUBLISH
X-ORIGINAL-URL:https://area34aa.org
X-WR-CALDESC:Events for 
REFRESH-INTERVAL;VALUE=DURATION:PT1H
X-Robots-Tag:noindex
X-PUBLISHED-TTL:PT1H
BEGIN:VTIMEZONE
TZID:America/Detroit
BEGIN:DAYLIGHT
TZOFFSETFROM:-0500
TZOFFSETTO:-0400
TZNAME:EDT
DTSTART:20250309T070000
END:DAYLIGHT
BEGIN:STANDARD
TZOFFSETFROM:-0400
TZOFFSETTO:-0500
TZNAME:EST
DTSTART:20251102T060000
END:STANDARD
BEGIN:DAYLIGHT
TZOFFSETFROM:-0500
TZOFFSETTO:-0400
TZNAME:EDT
DTSTART:20260308T070000
END:DAYLIGHT
BEGIN:STANDARD
TZOFFSETFROM:-0400
TZOFFSETTO:-0500
TZNAME:EST
DTSTART:20261101T060000
END:STANDARD
BEGIN:DAYLIGHT
TZOFFSETFROM:-0500
TZOFFSETTO:-0400
TZNAME:EDT
DTSTART:20270314T070000
END:DAYLIGHT
BEGIN:STANDARD
TZOFFSETFROM:-0400
TZOFFSETTO:-0500
TZNAME:EST
DTSTART:20271107T060000
END:STANDARD
END:VTIMEZONE
BEGIN:VEVENT
DTSTART;TZID=America/Detroit:20260517T103000
DTEND;TZID=America/Detroit:20260517T160000
DTSTAMP:20260422T213847
CREATED:20260313T202750Z
LAST-MODIFIED:20260420T192832Z
UID:10005861-1779013800-1779033600@area34aa.org
SUMMARY:MAY AREA 34 ASSEMBLY (Post Conference)
DESCRIPTION:Our Delegate will present post GSConference report\nDistrict 12 (Gaylord MI) is our host\nZoom Link Log In\nID: 521 659 0401\nPW: BW&BS1935
URL:https://area34aa.org/event/may-area-34-assembly-post-conference/
LOCATION:Otego County Library\, 700 S. Otsego Ave\, Gaylord Ave\, 49735\, United States
ATTACH;FMTTYPE=image/png:https://area34aa.org/wp-content/uploads/2026/04/Screenshot-2026-04-09-at-10.31.13-AM.png
END:VEVENT
END:VCALENDAR